0.202
0
0
-0.203
497565
466780
